


BEGIN:VCALENDAR
VERSION:2.0
PRODID:-//Museozoom.be v2016//EN
BEGIN:VEVENT
STATUS:CONFIRMED
DTSTART:19700101
DTEND:19700101
SUMMARY:Expo : 100ème anniversaire de l’armistice de la guerre 1914-1918
DESCRIPTION:Le Musée du Pays d&rsquo;Ourthe-Amblève accueille une exposition qui, en suivant une ligne du temps, évoque le parcours des soldats originaires de Comblain et alentours, à travers les temps forts du conflit et quelques thématiques clefs pour comprendre le contexte.Infos pratiques : Quand ? Du mardi au dimanche de 10 à 17hCombien ? 3€/adulte (+ de 12 ans) ; 1,5€/enfant (4-11ans) ; Gratuit /-4ansGratuit les premiers dimanches du mois ; aux détenteurs de la carte PROF et Articles 27.
LOCATION:Place Leblanc, 14170 Comblain-au-Pont
END:VEVENT
END:VCALENDAR